BEGIN:VCALENDAR
VERSION:2.0
PRODID:-//demosphere.net//NONSGML kigkonsult.se iCalcreator 2.22.1//
METHOD:REQUEST
X-WR-TIMEZONE:Europe/Athens
BEGIN:VEVENT
UID:https://www.kinimatorama.net/event/189918
DTSTAMP:20260427T170000Z
DESCRIPTION:περισσότερες πληροφορίες: https://www.kinimatorama.net/event/18
 9918 
DTSTART:20260427T170000Z
DTEND:20260427T180000Z
GEO:+40.845949;+25.874133
LOCATION:Αλεξ/πολη\, \nΑναγνωστήριο Ιατρικής \nΙ.Καβύρη 6
SUMMARY:Διοργανωτική Συνέλευση Αντιρατσιστικού Φεστιβάλ Αλεξανδρούπολης
URL:https://www.kinimatorama.net/event/189918
END:VEVENT
END:VCALENDAR
