BEGIN:VCALENDAR
VERSION:2.0
PRODID:-//demosphere.net//NONSGML kigkonsult.se iCalcreator 2.22.1//
METHOD:REQUEST
X-WR-TIMEZONE:Europe/Athens
BEGIN:VEVENT
UID:https://www.kinimatorama.net/event/189919
DTSTAMP:20260428T163000Z
DESCRIPTION:περισσότερες πληροφορίες: https://www.kinimatorama.net/event/18
 9919 
DTSTART:20260428T163000Z
DTEND:20260428T173000Z
GEO:+40.845949;+25.874133
LOCATION:Αλεξ/πολη\, \nΑναγνωστήριο Ιατρικής \nΙ.Καβύρη 6
SUMMARY:Συνάντηση ομάδας Podcast
URL:https://www.kinimatorama.net/event/189919
END:VEVENT
END:VCALENDAR
