BEGIN:VCALENDAR
VERSION:2.0
PRODID:-//demosphere.net//NONSGML kigkonsult.se iCalcreator 2.22.1//
METHOD:REQUEST
X-WR-TIMEZONE:Europe/Athens
BEGIN:VEVENT
UID:https://www.kinimatorama.net/event/189922
DTSTAMP:20260425T130000Z
DESCRIPTION:περισσότερες πληροφορίες: https://www.kinimatorama.net/event/18
 9922 
DTSTART:20260425T130000Z
DTEND:20260425T140000Z
GEO:+40.646569;+22.938883
LOCATION:Θεσσαλονίκη\, \nΚατάληψη Sonuna Kadar \nπιστών 9\, \nΘεσσαλονίκη
SUMMARY:Ο ηλιος ανατελλει στη μητροπολη
URL:https://www.kinimatorama.net/event/189922
END:VEVENT
END:VCALENDAR
