BEGIN:VCALENDAR
VERSION:2.0
PRODID:-//demosphere.net//NONSGML kigkonsult.se iCalcreator 2.22.1//
METHOD:REQUEST
X-WR-TIMEZONE:Europe/Athens
BEGIN:VEVENT
UID:https://www.kinimatorama.net/event/189923
DTSTAMP:20260425T003300Z
DESCRIPTION:περισσότερες πληροφορίες: https://www.kinimatorama.net/event/18
 9923 
DTSTART;VALUE=DATE:20260425
GEO:+40.646569;+22.938883
LOCATION:Θεσσαλονίκη\, \nΚατάληψη Sonuna Kadar \nπιστών 9\, \nΘεσσαλονίκη
SUMMARY:[ΕΚΤΑΚΤΟ] NEA ΚΑΤΑΛΗΨΗ SONUNA KADAR !!!
URL:https://www.kinimatorama.net/event/189923
END:VEVENT
END:VCALENDAR
