BEGIN:VCALENDAR
VERSION:2.0
PRODID:-//demosphere.net//NONSGML kigkonsult.se iCalcreator 2.22.1//
METHOD:REQUEST
X-WR-TIMEZONE:Europe/Athens
BEGIN:VEVENT
UID:https://www.kinimatorama.net/event/189924
DTSTAMP:20260426T140000Z
DESCRIPTION:περισσότερες πληροφορίες: https://www.kinimatorama.net/event/18
 9924 
DTSTART:20260426T140000Z
DTEND:20260426T150000Z
GEO:+40.640383;+22.951035
LOCATION:Θεσσαλονίκη\, \nΚοινωνικό Κέντρο '9 Μάη' \nΝαυπάκτου 3\, Άνω πόλη
SUMMARY:Mπαρ οικονομικής ενίσχυσης της Κοινωνικής Κουζίνας «9 Μάη»
URL:https://www.kinimatorama.net/event/189924
END:VEVENT
END:VCALENDAR
