BEGIN:VCALENDAR
VERSION:2.0
PRODID:-//demosphere.net//NONSGML kigkonsult.se iCalcreator 2.22.1//
METHOD:REQUEST
X-WR-TIMEZONE:Europe/Athens
BEGIN:VEVENT
UID:https://www.kinimatorama.net/event/189925
DTSTAMP:20260428T153000Z
DESCRIPTION:περισσότερες πληροφορίες: https://www.kinimatorama.net/event/18
 9925 
DTSTART:20260428T153000Z
DTEND:20260428T163000Z
GEO:+37.988037;+23.754651
LOCATION:Αθήνα\, \nΚατειλημμένα Προσφυγικά Λ. Αλεξάνδρας \nΑμπελόκηποι \n(3
 ' περπάτημα από Μετρό Αμπελόκηποι)
SUMMARY:Ανοιχτή συνέλευση για την υπόθεση βασανισμό του Β. Μάγγου
URL:https://www.kinimatorama.net/event/189925
END:VEVENT
END:VCALENDAR
