BEGIN:VCALENDAR
VERSION:2.0
PRODID:-//demosphere.net//NONSGML kigkonsult.se iCalcreator 2.22.1//
METHOD:REQUEST
X-WR-TIMEZONE:Europe/Athens
BEGIN:VEVENT
UID:https://www.kinimatorama.net/event/189926
DTSTAMP:20260523T160000Z
DESCRIPTION:περισσότερες πληροφορίες: https://www.kinimatorama.net/event/18
 9926 
DTSTART:20260523T160000Z
DTEND:20260523T170000Z
GEO:+39.668552;+20.854153
LOCATION:Ιωάννινα\, \nΑρχιτεκτονική Πανεπιστημίου Ιωαννίνων \n(Παπαζόγλειος
  Σχολή)
SUMMARY:Εκδήλωση - Συζήτηση για το ΕΣΥ και τα Νοσοκομεία της Ηπείρου
URL:https://www.kinimatorama.net/event/189926
END:VEVENT
END:VCALENDAR
