BEGIN:VCALENDAR
VERSION:2.0
PRODID:-//demosphere.net//NONSGML kigkonsult.se iCalcreator 2.22.1//
METHOD:REQUEST
X-WR-TIMEZONE:Europe/Athens
BEGIN:VEVENT
UID:https://www.kinimatorama.net/event/89365
DTSTAMP:20171112T090000Z
DESCRIPTION:περισσότερες πληροφορίες: https://www.kinimatorama.net/event/89
 365 
DTSTART:20171112T090000Z
DTEND:20171112T100000Z
GEO:+38.151803;+21.419241
LOCATION:Άραξος\, \nαεροπορική βάση Άραξου
SUMMARY:Eνάντια στην εγκατάσταση πυρηνικών όπλων στην αεροπορική βάση του Α
 ράξου
URL:https://www.kinimatorama.net/event/89365
END:VEVENT
END:VCALENDAR
