BEGIN:VCALENDAR
VERSION:2.0
PRODID:-//demosphere.net//NONSGML kigkonsult.se iCalcreator 2.22.1//
METHOD:PUBLISH
X-WR-CALNAME:kinimatorama.net
X-WR-CALDESC:ημερολόγιο από/για το κίνημα
X-WR-RELCALID:e6e941043bf24897bed0b20210516389
X-WR-TIMEZONE:Europe/Athens
BEGIN:VEVENT
UID:https://www.kinimatorama.net/event/189665
DTSTAMP:20260425T170000Z
DESCRIPTION:περισσότερες πληροφορίες: https://www.kinimatorama.net/event/18
 9665 
DTSTART:20260425T170000Z
DTEND:20260425T180000Z
GEO:00;0
LOCATION:Χανιά\, \nΚοινωνικό Στέκι - Στέκι Μεταναστών Χανίων \nΧατζήΜιχάλη 
 Νταλιάνη 5
SUMMARY:Βραδιά για την ενίσχυση της Aγωνιστικής Κίνησης κατά των πλειστηρια
 σμών
URL:https://www.kinimatorama.net/event/189665
END:VEVENT
END:VCALENDAR
