BEGIN:VCALENDAR
VERSION:2.0
PRODID:-//demosphere.net//NONSGML kigkonsult.se iCalcreator 2.22.1//
METHOD:PUBLISH
X-WR-CALNAME:kinimatorama.net
X-WR-CALDESC:ημερολόγιο από/για το κίνημα
X-WR-RELCALID:a98a033158bb59086f4f0cec49b3d72c
X-WR-TIMEZONE:Europe/Athens
BEGIN:VEVENT
UID:https://www.kinimatorama.net/event/189741
DTSTAMP:20260517T160000Z
DESCRIPTION:περισσότερες πληροφορίες: https://www.kinimatorama.net/event/18
 9741 
DTSTART:20260517T160000Z
DTEND:20260517T170000Z
GEO:00;0
LOCATION:Θεσσαλονίκη\, \nΚατάληψη Φάμπρικα Υφανέτ \nΟμήρου και Περδίκα\, Κά
 τω Τούμπα \nλεωφορεία από κέντρο: \n12 (στάση Υφανέτ) \n2\,58 (Θεαγένειο)
SUMMARY:ΟΒΦΥ Σουαρέ & Cocktail bar στην αυλή
URL:https://www.kinimatorama.net/event/189741
END:VEVENT
END:VCALENDAR
