BEGIN:VCALENDAR
VERSION:2.0
PRODID:-//demosphere.net//NONSGML kigkonsult.se iCalcreator 2.22.1//
METHOD:PUBLISH
X-WR-CALNAME:kinimatorama.net
X-WR-CALDESC:ημερολόγιο από/για το κίνημα
X-WR-RELCALID:daa19790839cf0c94079c12458953f9c
X-WR-TIMEZONE:Europe/Athens
BEGIN:VEVENT
UID:https://www.kinimatorama.net/event/189747
DTSTAMP:20260423T060000Z
DESCRIPTION:περισσότερες πληροφορίες: https://www.kinimatorama.net/event/18
 9747 
DTSTART:20260423T060000Z
DTEND:20260423T070000Z
GEO:00;0
LOCATION:Θεσσαλονίκη\, \nΔικαστήρια Θεσσαλονίκης
SUMMARY:Συγκέντρωση αλληλεγγύης στα δικαστήρια
URL:https://www.kinimatorama.net/event/189747
END:VEVENT
END:VCALENDAR
