BEGIN:VCALENDAR
VERSION:2.0
PRODID:-//demosphere.net//NONSGML kigkonsult.se iCalcreator 2.22.1//
METHOD:PUBLISH
X-WR-CALNAME:kinimatorama.net
X-WR-CALDESC:ημερολόγιο από/για το κίνημα
X-WR-RELCALID:6a71d4bd707913018bbac77f259b2394
X-WR-TIMEZONE:Europe/Athens
BEGIN:VEVENT
UID:https://www.kinimatorama.net/event/189808
DTSTAMP:20260424T150000Z
DESCRIPTION:περισσότερες πληροφορίες: https://www.kinimatorama.net/event/18
 9808 
DTSTART:20260424T150000Z
DTEND:20260424T160000Z
GEO:00;0
LOCATION:Χανιά\, \nδημαρχείο Χανίων \nΚυδωνίας 29
SUMMARY:Συγκέντρωση ενάντια στην ολική εκμετάλλευση της φύσης - Κάτω τα χέρ
 ια από την Γαύδο
URL:https://www.kinimatorama.net/event/189808
END:VEVENT
END:VCALENDAR
